BEGIN:VCALENDAR
VERSION:2.0
PRODID:-//Squarespace Inc/Squarespace 6//v6//EN
BEGIN:VEVENT
UID:51c6c9dde4b079ce7c237c60@squarespace.com
DTSTAMP:20130401T182636Z
DTSTART:20130415T183000Z
DTEND:20130415T193000Z
SUMMARY:Event One
END:VEVENT
END:VCALENDAR
